BEGIN:VCALENDAR
VERSION:2.0
PRODID:-//ChamberMaster//Event Calendar 2.0//EN
METHOD:PUBLISH
X-PUBLISHED-TTL:P3D
REFRESH-INTERVAL:P3D
CALSCALE:GREGORIAN
BEGIN:VEVENT
DTSTART:20140530T173000Z
DTEND:20140531T000000Z
X-MICROSOFT-CDO-ALLDAYEVENT:FALSE
SUMMARY:Chamber Golf Classic
DESCRIPTION:11th Annual Chamber Golf Classic\n\n3 Person Teams
X-ALT-DESC;FMTTYPE=text/html:<span style="color: rgb(0\, 0\, 128)\;"><span style="font-size: 16px\;"><strong>11th Annual Chamber Golf Classic</strong></span></span><br />\n3 Person Teams
LOCATION:Lakeview Golf Course 3300 N Ohlman Mitchell SD
UID:e.1624.1147
SEQUENCE:3
DTSTAMP:20260421T183920Z
URL:https://business.mitchellchamber.com/events/details/chamber-golf-classic-05-30-2014-1147
END:VEVENT

END:VCALENDAR
