BEGIN:VCALENDAR
VERSION:2.0
PRODID:-//ChamberMaster//Event Calendar 2.0//EN
METHOD:PUBLISH
X-PUBLISHED-TTL:P3D
REFRESH-INTERVAL:P3D
CALSCALE:GREGORIAN
BEGIN:VEVENT
DTSTART:20190124T140000Z
DTEND:20190124T150000Z
X-MICROSOFT-CDO-ALLDAYEVENT:FALSE
SUMMARY:Chamber Board of Directors Meetings
DESCRIPTION:Chamber Board of Directors Meetings
X-ALT-DESC;FMTTYPE=text/html:<span style="color:#000080\;"><span style="font-size: 16px\;"><strong>Chamber Board of Directors Meetings</strong></span></span>
LOCATION:Chamber Board Room 601 N Main Mitchell SD
UID:e.1624.714
SEQUENCE:3
DTSTAMP:20260424T184625Z
URL:https://business.mitchellchamber.com/events/details/chamber-board-of-directors-meetings-01-24-2019-714
END:VEVENT

END:VCALENDAR
