BEGIN:VCALENDAR
VERSION:2.0
PRODID:-//ChamberMaster//Event Calendar 2.0//EN
METHOD:PUBLISH
X-PUBLISHED-TTL:P3D
REFRESH-INTERVAL:P3D
CALSCALE:GREGORIAN
BEGIN:VEVENT
DTSTART:20231118T233000Z
DTEND:20231119T033000Z
X-MICROSOFT-CDO-ALLDAYEVENT:FALSE
SUMMARY:CASA'S Got Talent
DESCRIPTION:5th Annual CASA's Got Talent Fundraiser: Experience the Magic!\n\nDive into a memorable evening at the Highland Conference Center and contribute to First Circuit CASA's premier fundraising event. Each year\, we generate upwards of $70\,000\, empowering us to champion the rights of children affected by abuse or neglect.\n\nWhat can you anticipate?\n\n  Captivating silent and live auctions\n\n  A delightful dessert dash to satisfy your sweet tooth\n\n  Dazzling performances that promise to mesmerize\n\nYour time\, generosity\, and every bit of it help reshape the futures of abused & neglected children in our community.
X-ALT-DESC;FMTTYPE=text/html:<div background-color:="" color:="" font-size:="" segoe="" ui="">5th Annual CASA&#39\;s Got Talent Fundraiser: Experience the Magic!</div>\n\n<div background-color:="" color:="" font-size:="" segoe="" ui="">Dive into a memorable evening at the Highland Conference Center and contribute to First Circuit CASA&#39\;s premier fundraising event. Each year\, we generate upwards of $70\,000\, empowering us to champion the rights of children affected by abuse or neglect.</div>\n\n<div background-color:="" color:="" font-size:="" segoe="" ui="">What can you anticipate?<br />\n&bull\; Captivating silent and live auctions<br />\n&bull\; A delightful dessert dash to satisfy your sweet tooth<br />\n&bull\; Dazzling performances that promise to mesmerize</div>\n\n<div background-color:="" color:="" font-size:="" segoe="" ui="">Your time\, generosity\, and every bit of it help reshape the futures of abused &amp\; neglected children in our community.</div>\n
LOCATION:The Highland Conference Center 2000 Highland Way Mitchell\, SD 57301
UID:e.1624.35144
SEQUENCE:3
DTSTAMP:20260420T142037Z
URL:https://business.mitchellchamber.com/events/details/casa-s-got-talent-11-18-2023-35144
END:VEVENT

END:VCALENDAR
