BEGIN:VCALENDAR
VERSION:2.0
PRODID:-//ChamberMaster//Event Calendar 2.0//EN
METHOD:PUBLISH
X-PUBLISHED-TTL:P3D
REFRESH-INTERVAL:P3D
CALSCALE:GREGORIAN
BEGIN:VEVENT
DTSTART:20240417T220000Z
DTEND:20240418T000000Z
X-MICROSOFT-CDO-ALLDAYEVENT:FALSE
SUMMARY:CASA Culver's Fundraiser
DESCRIPTION:Join us at Culver's on Wednesday\, April 17th\, from 5 pm to 7 pm for burgers\, fries\, and\, most importantly\, frozen custard. Culver's will donate 10% of sales to First Circuit CASA.
X-ALT-DESC;FMTTYPE=text/html:<span style="background-color:rgb(255\, 255\, 255)\; color:rgb(5\, 5\, 5)\; font-family:segoe ui historic\,segoe ui\,helvetica\,arial\,sans-serif\; font-size:15px">Join us at Culver&#39\;s on Wednesday\, April 17th\, from 5 pm to 7 pm for burgers\, fries\, and\, most importantly\, frozen custard. Culver&#39\;s will donate 10% of sales to First Circuit CASA.</span>
LOCATION:Culver's 1015 Cabela Drive Mitchell SD 57301
UID:e.1624.36190
SEQUENCE:3
DTSTAMP:20260420T093705Z
URL:https://business.mitchellchamber.com/events/details/casa-culver-s-fundraiser-36190
END:VEVENT

END:VCALENDAR
