BEGIN:VCALENDAR
VERSION:2.0
PRODID:-//ChamberMaster//Event Calendar 2.0//EN
METHOD:PUBLISH
X-PUBLISHED-TTL:P3D
REFRESH-INTERVAL:P3D
CALSCALE:GREGORIAN
BEGIN:VEVENT
DTSTART:20250214T000000Z
DTEND:20250214T013000Z
X-MICROSOFT-CDO-ALLDAYEVENT:FALSE
SUMMARY:Carving Club
DESCRIPTION:Bring your own tools or use the tools we have.  Bring in your own ideas and projects or let's brainstorm together and come up with some wood carving projects that we can work on during club nights.  Cost is $5 (plus tax)/week
X-ALT-DESC;FMTTYPE=text/html:Bring your own tools or use the tools we have.&nbsp\; Bring in your own ideas and projects or let&#39\;s brainstorm together and come up with some wood carving projects that we can work on during club nights.&nbsp\; Cost is $5 (plus tax)/week
LOCATION:Your Shop at 304 N Main St\, Mitchell\, SD
UID:e.1624.39156
SEQUENCE:3
DTSTAMP:20260421T113725Z
URL:https://business.mitchellchamber.com/events/details/carving-club-02-13-2025-39156
END:VEVENT

END:VCALENDAR
