BEGIN:VCALENDAR
VERSION:2.0
PRODID:-//ChamberMaster//Event Calendar 2.0//EN
METHOD:PUBLISH
X-PUBLISHED-TTL:P3D
REFRESH-INTERVAL:P3D
CALSCALE:GREGORIAN
BEGIN:VEVENT
DTSTART:20221020T230000Z
DTEND:20221021T000000Z
X-MICROSOFT-CDO-ALLDAYEVENT:FALSE
SUMMARY:Candidate & Issue Forum
DESCRIPTION:The Government Affairs Committee of the Mitchell Area Chamber of Commerce will hold a Candidate & Issue Forum for Davison County District 3 County Commissioner candidates and pro/con representatives for Initiated Measure 27 and Constitutional Amendment D on Thursday\, October 20 at 6 p.m. at the MTC Tech Center Amphitheater\, located in the Muth Electric Technology Center. The West entrance right next to the amphitheater will be open for attendees. \n\n\n\nThis event is free and open to the public - no RSVP required. Attendees will have an opportunity to submit questions to the media panel to be asked during the forum. The forum will be livestreamed on the Mitchell Chamber & Development Facebook page.
X-ALT-DESC;FMTTYPE=text/html:The <em>Government Affairs Committee</em> of the Mitchell Area Chamber of Commerce will hold a Candidate &amp\; Issue Forum for Davison County District 3 County Commissioner candidates and pro/con representatives for Initiated Measure 27 and Constitutional Amendment D on Thursday\, October 20 at 6 p.m. at the MTC Tech Center Amphitheater\, located in the Muth Electric Technology Center. The West entrance right next to the amphitheater will be open for attendees.&nbsp\;<br />\n<br />\nThis event is free and open to the public - no RSVP required. Attendees will have an opportunity to submit questions to the media panel to be asked during the forum. The forum will be livestreamed on the Mitchell Chamber &amp\; Development Facebook page.&nbsp\;
LOCATION:Mitchell Technical College Tech Center Amphitheater 1800 E Spruce Street Mitchell\, SD 57301
UID:e.1624.32833
SEQUENCE:3
DTSTAMP:20260421T170153Z
URL:https://business.mitchellchamber.com/events/details/candidate-issue-forum-10-20-2022-32833
END:VEVENT

END:VCALENDAR
