BEGIN:VCALENDAR
VERSION:2.0
PRODID:-//ChamberMaster//Event Calendar 2.0//EN
METHOD:PUBLISH
X-PUBLISHED-TTL:P3D
REFRESH-INTERVAL:P3D
CALSCALE:GREGORIAN
BEGIN:VEVENT
DTSTART:20141014T000000Z
DTEND:20141014T013000Z
X-MICROSOFT-CDO-ALLDAYEVENT:FALSE
SUMMARY:Candidate & Issue Forum
DESCRIPTION:The Government Affairs Committee is hosting a Candidate & Issue form for the upcoming election.  All candidates for the State Representative for District 20 race and the County Auditor race have been invited as well as representatives for both sides of Initiated Measure 18 (minimum wage) and Initiated Measure 17 (health care insurers to include all providers on lists) have been invited to participate.  The event is free to the public and a detailed schedule of topics will follow.
X-ALT-DESC;FMTTYPE=text/html:The Government Affairs Committee is hosting a Candidate &amp\; Issue form for the upcoming election.&nbsp\; All candidates for the State Representative for District 20 race and the County Auditor race have been invited as well as representatives for both sides of Initiated Measure 18 (minimum wage) and Initiated Measure 17 (health care insurers to include all providers on lists) have been invited to participate.&nbsp\; The event is free to the public and a detailed schedule of topics will follow.
LOCATION:Mitchell Technical Institute Amphitheater
UID:e.1624.1241
SEQUENCE:3
DTSTAMP:20260421T101011Z
URL:https://business.mitchellchamber.com/events/details/candidate-issue-forum-10-13-2014-1241
END:VEVENT

END:VCALENDAR
