BEGIN:VCALENDAR
VERSION:2.0
PRODID:-//ChamberMaster//Event Calendar 2.0//EN
METHOD:PUBLISH
X-PUBLISHED-TTL:P3D
REFRESH-INTERVAL:P3D
CALSCALE:GREGORIAN
BEGIN:VEVENT
DTSTART:20230215T010000Z
DTEND:20230215T020000Z
X-MICROSOFT-CDO-ALLDAYEVENT:FALSE
SUMMARY:Call to Freedom Human Trafficking: The Problem and Response
DESCRIPTION:CALL TO FREEDOM provides supportive services for victims of human trafficking and sexual exploitation. They create a strong network of frontline providers who offer safe housing\, mental health counseling\, medical assistance\, help with chemical dependency\, transportation and other supportive services. The daytime student address will be delivered by Maragret Doom. The evening's speaker is Monica Rilling.
X-ALT-DESC;FMTTYPE=text/html:CALL TO FREEDOM provides supportive services for victims of human trafficking and sexual exploitation. They create a strong network of frontline providers who offer safe housing\, mental health counseling\, medical assistance\, help with chemical dependency\, transportation and other supportive services. The daytime student address will be delivered by Maragret Doom. The evening&rsquo\;s speaker is Monica Rilling.
LOCATION:DWU School of Business\, Innovation & Leadership Pratt Alumni Board Room
UID:e.1624.33121
SEQUENCE:3
DTSTAMP:20260421T135256Z
URL:https://business.mitchellchamber.com/events/details/call-to-freedom-human-trafficking-the-problem-and-response-33121
END:VEVENT

END:VCALENDAR
