BEGIN:VCALENDAR
VERSION:2.0
PRODID:-//ChamberMaster//Event Calendar 2.0//EN
METHOD:PUBLISH
X-PUBLISHED-TTL:P3D
REFRESH-INTERVAL:P3D
CALSCALE:GREGORIAN
BEGIN:VEVENT
DTSTART:20200222T230000Z
DTEND:20200223T023000Z
X-MICROSOFT-CDO-ALLDAYEVENT:FALSE
SUMMARY:Buffalo Ridge Brewing Tap Take Over/Tasting
DESCRIPTION:This Fantastic New Brewery in Hartford is excited and so are we to bring you more SD Craft Beer!! Join us for a networking night of fun and meet their staff!! Ask all the questions you can!
X-ALT-DESC;FMTTYPE=text/html:<span style="color: rgb(29\, 33\, 41)\; font-family: Helvetica\, Arial\, sans-serif\; font-size: 14px\; white-space: pre-wrap\;">This Fantastic New Brewery in Hartford is excited and so are we to bring you more SD Craft Beer!! Join us for a networking night of fun and meet their staff!! Ask all the questions you can!</span>
LOCATION:The Back 40 511 N Main St Mitchell
UID:e.1624.27754
SEQUENCE:3
DTSTAMP:20260424T044121Z
URL:https://business.mitchellchamber.com/events/details/buffalo-ridge-brewing-tap-take-over-tasting-27754
END:VEVENT

END:VCALENDAR
