BEGIN:VCALENDAR
VERSION:2.0
PRODID:-//ChamberMaster//Event Calendar 2.0//EN
METHOD:PUBLISH
X-PUBLISHED-TTL:P3D
REFRESH-INTERVAL:P3D
CALSCALE:GREGORIAN
BEGIN:VEVENT
DTSTART:20231129T010000Z
DTEND:20231129T020000Z
X-MICROSOFT-CDO-ALLDAYEVENT:FALSE
SUMMARY:Braver Angels Debate
DESCRIPTION:Resolution: Those seeking the office of President of the United States shall submit to a cognitive and physical exam. \n\n\n\nBraver Angels is the largest depolarization organization in the US and is working to improve the quality of our national discourse and to provide opportunities for discussion and healing across the acrimonious divides that tear the national fabric. The McGovern Center is a partner agency with Braver Angels and is committed to providing places for civil and meaningful discourse.
X-ALT-DESC;FMTTYPE=text/html:Resolution: Those seeking the office of President of the United States shall submit to a cognitive and physical exam.&nbsp\;<br />\n<br />\nBraver Angels is the largest depolarization organization in the US and is working to improve the quality of our national discourse and to provide opportunities for discussion and healing across the acrimonious divides that tear the national fabric. The McGovern Center is a partner agency with Braver Angels and is committed to providing places for civil and meaningful discourse.<br />\n&nbsp\;
LOCATION:Dakota Wesleyan University School of Business\, Innovation\, & Leadership Room 117 1200 W University Ave Mitchell\, SD 57301
UID:e.1624.34716
SEQUENCE:3
DTSTAMP:20260420T142037Z
URL:https://business.mitchellchamber.com/events/details/braver-angels-debate-11-28-2023-34716
END:VEVENT

END:VCALENDAR
