BEGIN:VCALENDAR
VERSION:2.0
PRODID:-//ChamberMaster//Event Calendar 2.0//EN
METHOD:PUBLISH
X-PUBLISHED-TTL:P3D
REFRESH-INTERVAL:P3D
CALSCALE:GREGORIAN
BEGIN:VEVENT
DTSTART:20240507T200000Z
DTEND:20240507T230000Z
X-MICROSOFT-CDO-ALLDAYEVENT:FALSE
SUMMARY:Brain Booth @ Mitchell Public Library
DESCRIPTION:The last few weeks of the semester can be stressful. Visit Mitchell Public Library from May 6th to May 16th to use the library's Brain Booth\, which offers hands-on activities to encourage mindfulness\, attention\, and contemplation. You can color\, create origami\, play a game of chess\, or work on a puzzle. Drop in between 3:00 PM and 6:00 PM to use the Brain Booth. The Brain Booth will not be available on May 7th during game night. Disclaimer: The Brain Booth is not intended to be and should not be used as a substitute for medical or mental health treatment and/or services.
X-ALT-DESC;FMTTYPE=text/html:<div>The last few weeks of the semester can be stressful. Visit Mitchell Public Library from May 6th to May 16th to use the library&#39\;s Brain Booth\, which offers hands-on activities to encourage mindfulness\, attention\, and contemplation. You can color\, create origami\, play a game of chess\, or work on a puzzle. Drop in between 3:00 PM and 6:00 PM to use the Brain Booth. The Brain Booth will not be available on May 7th during game night. Disclaimer: The Brain Booth is not intended to be and should not be used as a substitute for medical or mental health treatment and/or services.</div>\n
LOCATION:Mitchell Public Library 221 N. Duff Mitchell\, SD 57301
UID:e.1624.36350
SEQUENCE:3
DTSTAMP:20260420T063506Z
URL:https://business.mitchellchamber.com/events/details/brain-booth-mitchell-public-library-05-07-2024-36350
END:VEVENT

END:VCALENDAR
