BEGIN:VCALENDAR
VERSION:2.0
PRODID:-//ChamberMaster//Event Calendar 2.0//EN
METHOD:PUBLISH
X-PUBLISHED-TTL:P3D
REFRESH-INTERVAL:P3D
CALSCALE:GREGORIAN
BEGIN:VEVENT
DTSTART;VALUE=DATE:20200125
DTEND;VALUE=DATE:20200126
TRANSP:TRANSPARENT
X-MICROSOFT-CDO-ALLDAYEVENT:TRUE
SUMMARY:Boys Hanson Classic
DESCRIPTION:
X-ALT-DESC;FMTTYPE=text/html:
LOCATION:Corn Palace 604 N Main St\, Mitchell
UID:e.1624.27803
SEQUENCE:3
DTSTAMP:20260420T115855Z
URL:https://business.mitchellchamber.com/events/details/boys-hanson-classic-27803
END:VEVENT

END:VCALENDAR
