BEGIN:VCALENDAR
VERSION:2.0
PRODID:-//ChamberMaster//Event Calendar 2.0//EN
METHOD:PUBLISH
X-PUBLISHED-TTL:P3D
REFRESH-INTERVAL:P3D
CALSCALE:GREGORIAN
BEGIN:VEVENT
DTSTART:20260312T143000Z
DTEND:20260312T160000Z
X-MICROSOFT-CDO-ALLDAYEVENT:FALSE
SUMMARY:Bow Tie Butterflies with Lisa P.
DESCRIPTION:Join us at 401 Create by LifeQuest for a fun morning of Bow Tie Butterflies Craft with Lisa P.
X-ALT-DESC;FMTTYPE=text/html:Join us at 401 Create by LifeQuest for a fun morning of Bow Tie Butterflies Craft with Lisa P.
LOCATION:401 Create by LifeQuest 401 N Main St
UID:e.1624.42655
SEQUENCE:3
DTSTAMP:20260424T211659Z
URL:https://business.mitchellchamber.com/events/details/bow-tie-butterflies-with-lisa-p-42655
END:VEVENT

END:VCALENDAR
