BEGIN:VCALENDAR
VERSION:2.0
PRODID:-//ChamberMaster//Event Calendar 2.0//EN
METHOD:PUBLISH
X-PUBLISHED-TTL:P3D
REFRESH-INTERVAL:P3D
CALSCALE:GREGORIAN
BEGIN:VEVENT
DTSTART:20171107T160000Z
DTEND:20171107T170000Z
X-MICROSOFT-CDO-ALLDAYEVENT:FALSE
SUMMARY:Board of Regents Town Meeting
DESCRIPTION:Board of Regents Brings Town Meeting to Mitchell\n\nA town meeting on South Dakota public higher education is being hosted Tuesday\, Nov. 7\, in Mitchell by the South Dakota Board of Regents.\n\n \n\nThe meeting begins at 10 a.m. in the Technology Center Theater at Mitchell Technical Institute\, located at 1800 E. Spruce Street in Mitchell. Representatives of the South Dakota Board of Regents\, its staff\, and public university presidents will be on hand to visit with area residents. The public is invited to attend.\n\n \n\n"Our challenge as a public higher education system is to produce a competitive workforce and build a more robust economy for our state and nation\," said Regents President Bob Sutton. "While charting our future course\, it is very important that we hear from interested citizens and community leaders across South Dakota."\n\n \n\nAt the Mitchell meeting\, regents will discuss efforts to achieve a statewide attainment goal of 65 percent of South Dakota citizens\, ages 25 to 34\, holding some type of postsecondary credential by 2025. This goal addresses a full range of educational attainment from technical certificates and apprenticeships to associate\, bachelor\, and graduate degrees. \n\n \n\nAlso on the agenda is information from a recent economic impact study\, co-sponsored by the South Dakota Chamber of Commerce & Industry and the regents\, that shows public universities increase South Dakota's gross domestic product by $2.66 billion a year.
X-ALT-DESC;FMTTYPE=text/html:<strong><span style="font-family:times new roman\,serif\;"><span style="font-size:14.0pt\;">Board of Regents Brings Town Meeting to Mitchell</span></span></strong><br />\n<span style="font-family:times new roman\,serif\;"><span style="font-size:12.0pt\;">A town meeting on South Dakota public higher education is being hosted Tuesday\, Nov. 7\, in Mitchell by the South Dakota Board of Regents.</span></span><br />\n&nbsp\;<br />\n<span style="font-family:times new roman\,serif\;"><span style="font-size:12.0pt\;">The meeting begins at 10 a.m. in the Technology Center Theater at Mitchell Technical Institute\, located at 1800 E. Spruce Street in Mitchell. Representatives of the South Dakota Board of Regents\, its staff\, and public university presidents will be on hand to visit with area residents. The public is invited to attend.</span></span><br />\n&nbsp\;<br />\n<span style="font-family:times new roman\,serif\;"><span style="font-size:12.0pt\;">&ldquo\;Our challenge as a public higher education system is to produce a competitive workforce and build a more robust economy for our state and nation\,&rdquo\; said Regents President Bob Sutton. &ldquo\;While charting our future course\, it is very important that we hear from interested citizens and community leaders across South Dakota.&rdquo\;</span></span><br />\n&nbsp\;<br />\n<span style="font-family:times new roman\,serif\;"><span style="font-size:12.0pt\;">At the Mitchell meeting\, regents will discuss efforts to achieve a statewide attainment goal of 65 percent of South Dakota citizens\, ages 25 to 34\, holding some type of postsecondary credential by 2025. This goal addresses a full range of educational attainment from technical certificates and apprenticeships to associate\, bachelor\, and graduate degrees. </span></span><br />\n&nbsp\;<br />\n<span style="font-family:times new roman\,serif\;"><span style="font-size:12.0pt\;">Also on the agenda is information from a recent economic impact study\, co-sponsored by the South Dakota Chamber of Commerce &amp\; Industry and the regents\, that shows public universities increase South Dakota&rsquo\;s gross domestic product by $2.66 billion a year. </span></span><br />\n&nbsp\;<br />\n&nbsp\;
LOCATION:Technology Center Theater at Mitchell Technical Institute\, 1800 E. Spruce Street in Mitchell
UID:e.1624.9143
SEQUENCE:3
DTSTAMP:20260426T000813Z
URL:https://business.mitchellchamber.com/events/details/board-of-regents-town-meeting-9143
END:VEVENT

END:VCALENDAR
