BEGIN:VCALENDAR
VERSION:2.0
PRODID:-//ChamberMaster//Event Calendar 2.0//EN
METHOD:PUBLISH
X-PUBLISHED-TTL:P3D
REFRESH-INTERVAL:P3D
CALSCALE:GREGORIAN
BEGIN:VEVENT
DTSTART:20170930T150000Z
DTEND:20170930T170000Z
X-MICROSOFT-CDO-ALLDAYEVENT:FALSE
SUMMARY:Blue and White Days Parade
DESCRIPTION:Dakota Wesleyan University will be celebrating their Homecoming week with the annual Blue and White Days Parade at 10 a.m.\, on Sept. 30. The theme for this year is "The 90's" which can be anything from bands to TV shows to fashion and movies. If you are interested in registering\, please contact Anastasia Klumb at anastasia.klumb@dwu.edu or 995-2942. You can also register online at dwu.edu. The deadline to register is September 16.
X-ALT-DESC;FMTTYPE=text/html:Dakota Wesleyan University will be celebrating their Homecoming week with the annual Blue and White Days Parade at 10 a.m.\, on Sept. 30. The theme for this year is &quot\;The 90&#39\;s&quot\; which can be anything from bands to TV shows to fashion and movies. If you are interested in registering\, please contact Anastasia Klumb at anastasia.klumb@dwu.edu or 995-2942. You can also register online at dwu.edu. The deadline to register is September 16.
LOCATION:Main Street\, Mitchell
UID:e.1624.9073
SEQUENCE:3
DTSTAMP:20260426T032833Z
URL:https://business.mitchellchamber.com/events/details/blue-and-white-days-parade-9073
END:VEVENT

END:VCALENDAR
