BEGIN:VCALENDAR
VERSION:2.0
PRODID:-//ChamberMaster//Event Calendar 2.0//EN
METHOD:PUBLISH
X-PUBLISHED-TTL:P3D
REFRESH-INTERVAL:P3D
CALSCALE:GREGORIAN
BEGIN:VEVENT
DTSTART:20190217T210000Z
DTEND:20190218T000000Z
X-MICROSOFT-CDO-ALLDAYEVENT:FALSE
SUMMARY:BINGO & Sloppy Joe Supper
DESCRIPTION:Join us for a fun afternoon of BINGO! Sponsored by the Knights of Columbus\, Maher Council. Proceeds to benefit the Mitchell Catholic Youth Mission Trip to MX this summer. Cards are 2/quarter per game with a 50/50 payout. Then\, stay for supper! Serving sloppy joes\, chips\, desserts\, & drinks for a free will offering.
X-ALT-DESC;FMTTYPE=text/html:Join us for a fun afternoon of BINGO! Sponsored by the Knights of Columbus\, Maher Council. Proceeds to benefit the Mitchell Catholic Youth Mission Trip to MX this summer. Cards are 2/quarter per game with a 50/50 payout. Then\, stay for supper! Serving sloppy joes\, chips\, desserts\, &amp\; drinks for a free will offering.
LOCATION:Holy Spirit Church Hall 1401 West Cedar Mitchell SD 57301
UID:e.1624.23011
SEQUENCE:3
DTSTAMP:20260424T224505Z
URL:https://business.mitchellchamber.com/events/details/bingo-sloppy-joe-supper-23011
END:VEVENT

END:VCALENDAR
