BEGIN:VCALENDAR
VERSION:2.0
PRODID:-//ChamberMaster//Event Calendar 2.0//EN
METHOD:PUBLISH
X-PUBLISHED-TTL:P3D
REFRESH-INTERVAL:P3D
CALSCALE:GREGORIAN
BEGIN:VEVENT
DTSTART:20220423T190000Z
DTEND:20220423T193000Z
X-MICROSOFT-CDO-ALLDAYEVENT:FALSE
SUMMARY:Bilingual Storytime at the Mitchell Public Library
DESCRIPTION:Ada Morales and Jean Patrick will lead Bilingual Storytime on Saturday\, April 23 at 2:00-2:30pm and 3:00-3:30pm in the library's Community Room. They will read "There is a Bird on My Head\," by Mo Willems in Spanish and English. Each session will be approximately 30 minutes. Everyone is welcome\, but the Bilingual Storytime is designed for children between the ages of 5-11. Children should be accompanied by a parent or caregiver. Questions? Contact Ada Morales or Jean Patrick: 605-995-8480.
X-ALT-DESC;FMTTYPE=text/html:<span style="background-color:rgb(255\, 255\, 255)\; color:rgb(51\, 51\, 51)\; font-family:source sans pro\; font-size:15.2px">Ada Morales and Jean Patrick will lead Bilingual Storytime on Saturday\, April 23 at 2:00-2:30pm and 3:00-3:30pm in the library&#39\;s Community Room. They will read &quot\;There is a Bird on My Head\,&quot\; by Mo Willems in Spanish and English. Each session will be approximately 30 minutes. Everyone is welcome\, but the Bilingual Storytime is designed for children between the ages of 5-11. Children should be accompanied by a parent or caregiver. Questions? Contact Ada Morales or Jean Patrick: 605-995-8480.</span>
LOCATION:Mitchell Public Library Community Room
UID:e.1624.32483
SEQUENCE:3
DTSTAMP:20260422T032625Z
URL:https://business.mitchellchamber.com/events/details/bilingual-storytime-at-the-mitchell-public-library-32483
END:VEVENT

END:VCALENDAR
