BEGIN:VCALENDAR
VERSION:2.0
PRODID:-//ChamberMaster//Event Calendar 2.0//EN
METHOD:PUBLISH
X-PUBLISHED-TTL:P3D
REFRESH-INTERVAL:P3D
CALSCALE:GREGORIAN
BEGIN:VEVENT
DTSTART:20221022T153000Z
DTEND:20221022T161500Z
X-MICROSOFT-CDO-ALLDAYEVENT:FALSE
SUMMARY:Bilingual (Spanish and English) Saturday Story Time at Mitchell Public Library
DESCRIPTION:You're invited to Spanish-English Saturday Story Time on Oct. 22 at 10:30 am at Mitchell Public Library. We'll read stories\, play games\, and do a craft. All ages welcome. Children should be accompanied by parent or caregiver. This Story Time will be led by Ada Morales and Jean Patrick.
X-ALT-DESC;FMTTYPE=text/html:<span style="background-color:rgb(255\, 255\, 255)\; color:rgb(51\, 51\, 51)\; font-family:source sans pro\; font-size:15.2px">You&#39\;re invited to Spanish-English Saturday Story Time on Oct. 22 at 10:30 am at Mitchell Public Library. We&#39\;ll read stories\, play games\, and do a craft. All ages welcome. Children should be accompanied by parent or caregiver. This Story Time will be led by Ada Morales and Jean Patrick.</span>
LOCATION:Mitchell Public Library Community Room 221 N Duff St Mitchell\, SD 57301
UID:e.1624.32848
SEQUENCE:3
DTSTAMP:20260421T170716Z
URL:https://business.mitchellchamber.com/events/details/bilingual-spanish-and-english-saturday-story-time-at-mitchell-public-library-10-22-2022-32848
END:VEVENT

END:VCALENDAR
