BEGIN:VCALENDAR
VERSION:2.0
PRODID:-//ChamberMaster//Event Calendar 2.0//EN
METHOD:PUBLISH
X-PUBLISHED-TTL:P3D
REFRESH-INTERVAL:P3D
CALSCALE:GREGORIAN
BEGIN:VEVENT
DTSTART:20180120T233000Z
DTEND:20180121T055500Z
X-MICROSOFT-CDO-ALLDAYEVENT:FALSE
SUMMARY:Big Friend Little Friend Winter Escape
DESCRIPTION:BFLF is holding our 8th annual Winter Escape fundraiser. This event includes bowling\, casino games\, dinner and live/silent auction.
X-ALT-DESC;FMTTYPE=text/html:BFLF is holding our 8th annual Winter Escape fundraiser. This event includes bowling\, casino games\, dinner and live/silent auction.
LOCATION:Village Bowl
UID:e.1624.9761
SEQUENCE:3
DTSTAMP:20260425T203849Z
URL:https://business.mitchellchamber.com/events/details/big-friend-little-friend-winter-escape-9761
END:VEVENT

END:VCALENDAR
