BEGIN:VCALENDAR
VERSION:2.0
PRODID:-//ChamberMaster//Event Calendar 2.0//EN
METHOD:PUBLISH
X-PUBLISHED-TTL:P3D
REFRESH-INTERVAL:P3D
CALSCALE:GREGORIAN
BEGIN:VEVENT
DTSTART:20220725T160000Z
DTEND:20220725T220000Z
X-MICROSOFT-CDO-ALLDAYEVENT:FALSE
SUMMARY:Big Friend Little Friend's Par 3 Golf Tournament
DESCRIPTION:Big Friend Little Friend's 5th Annual Par 3 Golf Tournament will be hosted on Monday\, July 25 at Wild Oak Golf Course. Check-in and lunch will begin at 11 AM with a shotgun start at 12 PM.\n\n\n\n \n\n\n\nThis two person scramble includes prizes and payouts. Registration for a two person team is $100\; cart rental not included.\n\n \n\n\n\nFor more information about the event and how to register\, call 605-292-4444 or visit https://www.bigfriendlittlefriendmitchell.org/par3golf
X-ALT-DESC;FMTTYPE=text/html:<div>\n<div>Big Friend Little Friend&#39\;s 5th Annual Par 3 Golf Tournament will be hosted on Monday\, July 25 at Wild Oak Golf Course. Check-in and lunch will begin at 11 AM with a shotgun start at 12 PM.</div>\n</div>\n\n<div>\n<div>&nbsp\;</div>\n</div>\n\n<div>\n<div>This two person scramble includes prizes and payouts. Registration for a two person team is $100\; cart rental not included.<br />\n&nbsp\;</div>\n</div>\n\n<div>\n<div>For more information about the event and how to register\, call 605-292-4444 or visit https://www.bigfriendlittlefriendmitchell.org/par3golf</div>\n</div>\n
LOCATION:Wild Oak Golf Course 2500 E. 1st Ave. Mitchell\, SD
UID:e.1624.32661
SEQUENCE:3
DTSTAMP:20260421T221536Z
URL:https://business.mitchellchamber.com/events/details/big-friend-little-friend-s-par-3-golf-tournament-07-25-2022-32661
END:VEVENT

END:VCALENDAR
