BEGIN:VCALENDAR
VERSION:2.0
PRODID:-//ChamberMaster//Event Calendar 2.0//EN
METHOD:PUBLISH
X-PUBLISHED-TTL:P3D
REFRESH-INTERVAL:P3D
CALSCALE:GREGORIAN
BEGIN:VEVENT
DTSTART:20180608T173000Z
DTEND:20180608T230000Z
X-MICROSOFT-CDO-ALLDAYEVENT:FALSE
SUMMARY:Bids for Kids Golf Scramble
DESCRIPTION:Annual Charity Golf Scramble benefiting Catholic Education in Mitchell Friday\, June 8\, 2018 - 12:30pm shotgun start Lakeview Golf Course in Mitchell\, SD 4 person teams Contact Nicole Fuhrer to register 605-999-9127 or nfuhrer@ccfesd.org
X-ALT-DESC;FMTTYPE=text/html:Annual Charity Golf Scramble benefiting Catholic Education in Mitchell Friday\, June 8\, 2018 - 12:30pm shotgun start Lakeview Golf Course in Mitchell\, SD 4 person teams Contact Nicole Fuhrer to register 605-999-9127 or nfuhrer@ccfesd.org
LOCATION:Lakeview Golf Course
UID:e.1624.14706
SEQUENCE:3
DTSTAMP:20260425T124516Z
URL:https://business.mitchellchamber.com/events/details/bids-for-kids-golf-scramble-14706
END:VEVENT

END:VCALENDAR
