BEGIN:VCALENDAR
VERSION:2.0
PRODID:-//ChamberMaster//Event Calendar 2.0//EN
METHOD:PUBLISH
X-PUBLISHED-TTL:P3D
REFRESH-INTERVAL:P3D
CALSCALE:GREGORIAN
BEGIN:VEVENT
DTSTART:20150912T141500Z
DTEND:20150912T211500Z
X-MICROSOFT-CDO-ALLDAYEVENT:FALSE
SUMMARY:Beth Moore Simulcast
DESCRIPTION:Beth Moore's Living Proof Simulcast an opportunity for women to gather to glance away from all the distractions of life\, and fully engage in the teaching of Beth Moore. No matter what you know or don't know\, no matter where you've been\, what hardship you've endured\, it is where you are meant to be on September 12\, 2015. Sponsored by the Mitchell Wesleyan Church and Stacey Malde - Modern Woodmen of America.
X-ALT-DESC;FMTTYPE=text/html:Beth Moore&#39\;s Living Proof Simulcast an opportunity for women to gather to glance away from all the distractions of life\, and fully engage in the teaching of Beth Moore. No matter what you know or don&#39\;t know\, no matter where you&#39\;ve been\, what hardship you&#39\;ve endured\, it is where you are meant to be on September 12\, 2015. Sponsored by the Mitchell Wesleyan Church and Stacey Malde - Modern Woodmen of America.
LOCATION:Mitchell Wesleyan Church 601 N Sanborn Blvd
UID:e.1624.1965
SEQUENCE:3
DTSTAMP:20260419T205218Z
URL:https://business.mitchellchamber.com/events/details/beth-moore-simulcast-09-12-2015-1965
END:VEVENT

END:VCALENDAR
