BEGIN:VCALENDAR
VERSION:2.0
PRODID:-//ChamberMaster//Event Calendar 2.0//EN
METHOD:PUBLISH
X-PUBLISHED-TTL:P3D
REFRESH-INTERVAL:P3D
CALSCALE:GREGORIAN
BEGIN:VEVENT
DTSTART:20181118T000000Z
DTEND:20181118T030000Z
X-MICROSOFT-CDO-ALLDAYEVENT:FALSE
SUMMARY:BeMobile Verizon Friends and Family
DESCRIPTION:Who's up for an early Black Friday event? Join us for the best deals of the season on Saturday\, November 17th from 6-9pm. Food\, prizes and amazing deals are waiting for you! Plus\, you can win up to $20 for each year you have been a customer at Verizon just for walking in the door! Download the BeMobile app for more information! Two locations in Mitchell!
X-ALT-DESC;FMTTYPE=text/html:Who&rsquo\;s up for an early Black Friday event? Join us for the best deals of the season on Saturday\, November 17th from 6-9pm. Food\, prizes and amazing deals are waiting for you! Plus\, you can win up to $20 for each year you have been a customer at Verizon just for walking in the door! Download the BeMobile app for more information! Two locations in Mitchell!
LOCATION:Mitchell Burr 714 South Burr Street Mitchell\, SD 57301 (605) 996-2300 Mitchell Spruce 820 East Spruce Street Suite A Mitchell\, SD 57301 (605) 996-2401
UID:e.1624.19549
SEQUENCE:3
DTSTAMP:20260425T040400Z
URL:https://business.mitchellchamber.com/events/details/bemobile-verizon-friends-and-family-19549
END:VEVENT

END:VCALENDAR
