BEGIN:VCALENDAR
VERSION:2.0
PRODID:-//ChamberMaster//Event Calendar 2.0//EN
METHOD:PUBLISH
X-PUBLISHED-TTL:P3D
REFRESH-INTERVAL:P3D
CALSCALE:GREGORIAN
BEGIN:VEVENT
DTSTART:20170909T130000Z
DTEND:20170909T170000Z
X-MICROSOFT-CDO-ALLDAYEVENT:FALSE
SUMMARY:Bella's 5k color run/walk
DESCRIPTION:Bella's 5k color run/walk is a fundraising event held in honor of Bella\, a little girl who was killed in a drunk driving accident in 2012. The run/walk will bring the community together in order to raise money for victims of drunk driving accidents and LifeQuest\, an organization that was near and dear to Bella's heart.
X-ALT-DESC;FMTTYPE=text/html:Bella&#39\;s 5k color run/walk is a fundraising event held in honor of Bella\, a little girl who was killed in a drunk driving accident in 2012. The run/walk will bring the community together in order to raise money for victims of drunk driving accidents and LifeQuest\, an organization that was near and dear to Bella&#39\;s heart.
LOCATION:Bella's Butterfly Garden at the corner of 11th and Park ave. in Mitchell\, SD
UID:e.1624.8712
SEQUENCE:3
DTSTAMP:20260426T033052Z
URL:https://business.mitchellchamber.com/events/details/bella-s-5k-color-run-walk-8712
END:VEVENT

END:VCALENDAR
