BEGIN:VCALENDAR
VERSION:2.0
PRODID:-//ChamberMaster//Event Calendar 2.0//EN
METHOD:PUBLISH
X-PUBLISHED-TTL:P3D
REFRESH-INTERVAL:P3D
CALSCALE:GREGORIAN
BEGIN:VEVENT
DTSTART:20231109T013000Z
DTEND:20231109T033000Z
X-MICROSOFT-CDO-ALLDAYEVENT:FALSE
SUMMARY:"Before the Fire" Movie Premiere
DESCRIPTION:Mitchell native Charlie Buhler made "Before the Fire" about a TV actress who flees Los Angeles to her rural hometown to escape a pandemic.  But a dangerous person from her past threatens both her and her family.  It will show Monday through Thursday\, November 6-9. The movie was conceived and filmed in the Mitchell area before the COVID pandemic became a real thing.  The film premiered at the Luxury 5 in August of 2020 just as South Dakota was coming out of COVID.  Buhler brought professional actors and crew from Los Angeles along with using local people to round out the cast.  Several scenes were shot at Buckshots Roadhouse  in Letcher.
X-ALT-DESC;FMTTYPE=text/html:Mitchell native Charlie Buhler made &ldquo\;Before the Fire&rdquo\; about a TV actress who flees Los Angeles to her rural hometown to escape a pandemic.&nbsp\; But a dangerous person from her past threatens both her and her family.&nbsp\; It will show Monday through Thursday\, November 6-9. The movie was conceived and filmed in the Mitchell area before the COVID pandemic became a real thing.&nbsp\; The film premiered at the Luxury 5 in August of 2020 just as South Dakota was coming out of COVID.&nbsp\; Buhler brought professional actors and crew from Los Angeles along with using local people to round out the cast.&nbsp\; Several scenes were shot at Buckshots Roadhouse&nbsp\; in Letcher.
LOCATION:Logan 5 Luxury Cinemas 209 N Lawler Mitchell\, SD 57301
UID:e.1624.35083
SEQUENCE:3
DTSTAMP:20260420T154624Z
URL:https://business.mitchellchamber.com/events/details/before-the-fire-movie-premiere-35083
END:VEVENT

END:VCALENDAR
