BEGIN:VCALENDAR
VERSION:2.0
PRODID:-//ChamberMaster//Event Calendar 2.0//EN
METHOD:PUBLISH
X-PUBLISHED-TTL:P3D
REFRESH-INTERVAL:P3D
CALSCALE:GREGORIAN
BEGIN:VEVENT
DTSTART;VALUE=DATE:20220716
DTEND;VALUE=DATE:20220717
TRANSP:TRANSPARENT
X-MICROSOFT-CDO-ALLDAYEVENT:TRUE
SUMMARY:Beers & Gears Mountain Bike Race
DESCRIPTION:Women: Citizen 1 - lap (8 miles)\n\n               Intermediate - 2 lap (16 miles)\n\n               Elite - 4 lap (32 miles)\n\n\n\nMen: Citizen 1 - lap (8 miles)\n\n         Intermediate - 2 lap (16 miles)\n\n         Elite - 4 lap (32 miles)\n\n\n\nYouth (16 & Under): Citizen 1 - lap (8 miles)\n\n                                 Intermediate - 2 lap (16 miles)\n\n                                 Elite - 4 lap (32 miles)
X-ALT-DESC;FMTTYPE=text/html:Women: Citizen 1 - lap (8 miles)<br />\n&nbsp\;&nbsp\;&nbsp\;&nbsp\;&nbsp\;&nbsp\;&nbsp\;&nbsp\;&nbsp\;&nbsp\;&nbsp\;&nbsp\;&nbsp\; &nbsp\;Intermediate - 2 lap (16 miles)<br />\n&nbsp\;&nbsp\;&nbsp\;&nbsp\;&nbsp\;&nbsp\;&nbsp\;&nbsp\;&nbsp\;&nbsp\;&nbsp\;&nbsp\;&nbsp\; &nbsp\;Elite - 4 lap (32 miles)<br />\n<br />\nMen: Citizen 1 - lap (8 miles)<br />\n&nbsp\;&nbsp\;&nbsp\;&nbsp\;&nbsp\;&nbsp\;&nbsp\;&nbsp\;&nbsp\;Intermediate - 2 lap (16 miles)<br />\n&nbsp\;&nbsp\;&nbsp\;&nbsp\;&nbsp\; &nbsp\; &nbsp\;Elite - 4 lap (32 miles)<br />\n<br />\nYouth (16 &amp\; Under): Citizen 1 - lap (8 miles)<br />\n&nbsp\;&nbsp\;&nbsp\;&nbsp\;&nbsp\;&nbsp\;&nbsp\;&nbsp\;&nbsp\;&nbsp\;&nbsp\;&nbsp\;&nbsp\;&nbsp\;&nbsp\;&nbsp\;&nbsp\;&nbsp\;&nbsp\;&nbsp\;&nbsp\;&nbsp\;&nbsp\;&nbsp\;&nbsp\;&nbsp\;&nbsp\;&nbsp\;&nbsp\;&nbsp\;&nbsp\;&nbsp\;&nbsp\;Intermediate - 2 lap (16 miles)<br />\n&nbsp\;&nbsp\;&nbsp\;&nbsp\;&nbsp\;&nbsp\;&nbsp\;&nbsp\;&nbsp\;&nbsp\;&nbsp\;&nbsp\;&nbsp\;&nbsp\;&nbsp\;&nbsp\;&nbsp\;&nbsp\;&nbsp\;&nbsp\;&nbsp\;&nbsp\;&nbsp\;&nbsp\;&nbsp\;&nbsp\;&nbsp\;&nbsp\;&nbsp\; &nbsp\; &nbsp\;Elite - 4 lap (32 miles)
LOCATION:Lake Mitchell Trails Mitchell\, South Dakota
UID:e.1624.32547
SEQUENCE:3
DTSTAMP:20260421T221338Z
URL:https://business.mitchellchamber.com/events/details/beers-gears-mountain-bike-race-32547
END:VEVENT

END:VCALENDAR
