BEGIN:VCALENDAR
VERSION:2.0
PRODID:-//ChamberMaster//Event Calendar 2.0//EN
METHOD:PUBLISH
X-PUBLISHED-TTL:P3D
REFRESH-INTERVAL:P3D
CALSCALE:GREGORIAN
BEGIN:VEVENT
DTSTART:20180805T190000Z
DTEND:20180805T203000Z
X-MICROSOFT-CDO-ALLDAYEVENT:FALSE
SUMMARY:Beauty and the Beast
DESCRIPTION:The classic story tells of Belle\, a young woman in a provincial town\, and the Beast\, who is really a young prince trapped under the spell of an enchantress. If the Beast can learn to love and be loved\, the curse will end and he will be transformed into his former self. But time is running out. If the Beast does not learn his lesson soon\, he and his household will be doomed for all eternity.
X-ALT-DESC;FMTTYPE=text/html:The classic story tells of Belle\, a young woman in a provincial town\, and the Beast\, who is really a young prince trapped under the spell of an enchantress. If the Beast can learn to love and be loved\, the curse will end and he will be transformed into his former self. But time is running out. If the Beast does not learn his lesson soon\, he and his household will be doomed for all eternity.
LOCATION:Pepsi Cola Theatre @ 700 N Main\, Mitchell\, SD 57301
UID:e.1624.15363
SEQUENCE:3
DTSTAMP:20260422T041828Z
URL:https://business.mitchellchamber.com/events/details/beauty-and-the-beast-15363
END:VEVENT

END:VCALENDAR
