BEGIN:VCALENDAR
VERSION:2.0
PRODID:-//ChamberMaster//Event Calendar 2.0//EN
METHOD:PUBLISH
X-PUBLISHED-TTL:P3D
REFRESH-INTERVAL:P3D
CALSCALE:GREGORIAN
BEGIN:VEVENT
DTSTART:20240419T230000Z
DTEND:20240420T030000Z
X-MICROSOFT-CDO-ALLDAYEVENT:FALSE
SUMMARY:BBQ & BINGO at the Highland
DESCRIPTION:BBQ & BINGO at the Highland Conference Center takes place on Friday\, April 19\, 2024! Seating is limited so reserve now! Up to $1\,000 in CASH PRIZES!\n\n\n\nMusic & Bar open 6 p.m.\n\nDinner at 6:30 p.m.\n\n\n\nSmoked Meats by Pirogues Catering served Family Style - Ribs - Chicken - Brisket - Pulled Pork - Sausage - Pepperjack Mac - Baked Beans - Coleslaw - Corn Bread Muffis - Ice Cream Sundae Buffet\n\n\n\nTables of 8 = $450\n\nTables of 4 = $225\n\n\n\nBINGO by Mitchell Exchange Club 8-10 p.m.
X-ALT-DESC;FMTTYPE=text/html:BBQ &amp\; BINGO at the Highland Conference Center takes place on Friday\, April 19\, 2024! Seating is limited so reserve now! Up to $1\,000 in CASH PRIZES!<br />\n<br />\nMusic &amp\; Bar open 6 p.m.<br />\nDinner at 6:30 p.m.<br />\n<br />\nSmoked Meats by Pirogues Catering served Family Style - Ribs - Chicken - Brisket - Pulled Pork - Sausage - Pepperjack Mac - Baked Beans - Coleslaw - Corn Bread Muffis - Ice Cream Sundae Buffet<br />\n<br />\nTables of 8 = $450<br />\nTables of 4 = $225<br />\n<br />\nBINGO by Mitchell Exchange Club 8-10 p.m.
LOCATION:Highland Conference Center 2000 Highland Way Mitchell\, SD 57301
UID:e.1624.36222
SEQUENCE:3
DTSTAMP:20260420T093506Z
URL:https://business.mitchellchamber.com/events/details/bbq-bingo-at-the-highland-36222
END:VEVENT

END:VCALENDAR
