BEGIN:VCALENDAR
VERSION:2.0
PRODID:-//ChamberMaster//Event Calendar 2.0//EN
METHOD:PUBLISH
X-PUBLISHED-TTL:P3D
REFRESH-INTERVAL:P3D
CALSCALE:GREGORIAN
BEGIN:VEVENT
DTSTART:20260516T220000Z
DTEND:20260517T030000Z
X-MICROSOFT-CDO-ALLDAYEVENT:FALSE
SUMMARY:Battle at the Corn Palace 2
DESCRIPTION:
X-ALT-DESC;FMTTYPE=text/html:
LOCATION:The World's Only Corn Palace
UID:e.1624.42886
SEQUENCE:3
DTSTAMP:20260421T094129Z
URL:https://business.mitchellchamber.com/events/details/battle-at-the-corn-palace-2-42886
END:VEVENT

END:VCALENDAR
