BEGIN:VCALENDAR
VERSION:2.0
PRODID:-//ChamberMaster//Event Calendar 2.0//EN
METHOD:PUBLISH
X-PUBLISHED-TTL:P3D
REFRESH-INTERVAL:P3D
CALSCALE:GREGORIAN
BEGIN:VEVENT
DTSTART:20180324T163000Z
DTEND:20180324T190000Z
X-MICROSOFT-CDO-ALLDAYEVENT:FALSE
SUMMARY:Baskets of Hope Luncheon- CASA
DESCRIPTION:Join us for Baskets of Hope\, an annual luncheon\, live auction and raffle benefiting CASA kids. A limited number of tickets & tables are available. Please consider making a big impact in the life of children.\n\nToo many children lose their families\, their rights\, and their hope. Partner with CASA to make sure they don't!\n\nDoors open - 30 golden tickets giving you 1st choice of live auction item w/out ever bidding & raffle tickets will be available for purchase\n\nLunch is served\n\nPresentation by CASA Volunteers\nAuction and Raffles
X-ALT-DESC;FMTTYPE=text/html:<p>Join us for Baskets of Hope\, an annual luncheon\, live auction and raffle benefiting CASA kids. A limited number of tickets &amp\; tables are available. Please consider making a big impact in the life of children.</p>\n\n<p>Too many children lose their families\, their rights\, and their hope. Partner with CASA to make sure they don&#39\;t!</p>\n\n<p>Doors open - 30 golden tickets giving you 1st choice of live auction item w/out ever bidding &amp\; raffle tickets will be available for purchase</p>\n\n<p>Lunch is served</p>\n\n<p>Presentation by CASA Volunteers</p>\nAuction and Raffles<br />\n<br />\n&nbsp\;
LOCATION:Mitchell Wesleyan Church 601 N Sanborn Blvd Mitchell\, SD
UID:e.1624.11499
SEQUENCE:3
DTSTAMP:20260425T173449Z
URL:https://business.mitchellchamber.com/events/details/baskets-of-hope-luncheon-casa-11499
END:VEVENT

END:VCALENDAR
