BEGIN:VCALENDAR
VERSION:2.0
PRODID:-//ChamberMaster//Event Calendar 2.0//EN
METHOD:PUBLISH
X-PUBLISHED-TTL:P3D
REFRESH-INTERVAL:P3D
CALSCALE:GREGORIAN
BEGIN:VEVENT
DTSTART:20220910T180000Z
DTEND:20220910T190000Z
X-MICROSOFT-CDO-ALLDAYEVENT:FALSE
SUMMARY:Ballet Folklorico Estrellas De Jalisco - Hispanic Folk Dancers
DESCRIPTION:Watch dancers of all ages from the Ballet Folklorico Estrellas De Jalisco perform at the Corn Palaca Plaza on Sat.\, Sept. 10 at 1:00pm. This troupe of 40 dancers from Sioux City\, Iowa\, combines high-energy traditional Hispanic folk dancing with contagious music and colorful costumes. Free! Everyone welcome. Family friendly. Please share. This event kicks off Hispanic Heritage Month and is sponsored by Mitchell Public Library\, AKG\, Exchange Club\, Lions Club\, Los 3 Amigos\, Corona Village\, Nadine's Cleaning Services\, and Cazu Framing\, LLC. Questions? Please contact Ada Morales at Mitchell Public Library: 605-995-8480.
X-ALT-DESC;FMTTYPE=text/html:Watch dancers of all ages from the Ballet Folklorico Estrellas De Jalisco perform at the Corn Palaca Plaza on Sat.\, Sept. 10 at 1:00pm. This troupe of 40 dancers from Sioux City\, Iowa\, combines high-energy traditional Hispanic folk dancing with contagious music and colorful costumes. Free! Everyone welcome. Family friendly. Please share. This event kicks off Hispanic Heritage Month and is sponsored by Mitchell Public Library\, AKG\, Exchange Club\, Lions Club\, Los 3 Amigos\, Corona Village\, Nadine&#39\;s Cleaning Services\, and Cazu Framing\, LLC. Questions? Please contact Ada Morales at Mitchell Public Library: 605-995-8480.
LOCATION:Corn Palace Plaza 604 N. Main St.
UID:e.1624.32700
SEQUENCE:3
DTSTAMP:20260421T184340Z
URL:https://business.mitchellchamber.com/events/details/ballet-folklorico-estrellas-de-jalisco-hispanic-folk-dancers-32700
END:VEVENT

END:VCALENDAR
