BEGIN:VCALENDAR
VERSION:2.0
PRODID:-//ChamberMaster//Event Calendar 2.0//EN
METHOD:PUBLISH
X-PUBLISHED-TTL:P3D
REFRESH-INTERVAL:P3D
CALSCALE:GREGORIAN
BEGIN:VEVENT
DTSTART:20260606T140000Z
DTEND:20260606T200000Z
X-MICROSOFT-CDO-ALLDAYEVENT:FALSE
SUMMARY:Baby Days
DESCRIPTION:Davison Feed & The Dog House & Training will be hosting Baby Days. Enjoy Horse Rides\, Petting Zoo\, Rummage Sale\, Bake Sale\, Plant Sale\, Vendors & Food.
X-ALT-DESC;FMTTYPE=text/html:Davison Feed &amp\; The Dog House &amp\; Training will be hosting Baby Days. Enjoy Horse Rides\, Petting Zoo\, Rummage Sale\, Bake Sale\, Plant Sale\, Vendors &amp\; Food.
LOCATION:1104 W Havens
UID:e.1624.42924
SEQUENCE:3
DTSTAMP:20260423T192322Z
URL:https://business.mitchellchamber.com/events/details/baby-days-42924
END:VEVENT

END:VCALENDAR
