BEGIN:VCALENDAR
VERSION:2.0
PRODID:-//ChamberMaster//Event Calendar 2.0//EN
METHOD:PUBLISH
X-PUBLISHED-TTL:P3D
REFRESH-INTERVAL:P3D
CALSCALE:GREGORIAN
BEGIN:VEVENT
DTSTART:20140805T220000Z
DTEND:20140805T223000Z
X-MICROSOFT-CDO-ALLDAYEVENT:FALSE
SUMMARY:Avera Grassland Health Campus Groundbreaking
DESCRIPTION:Avera Health and Avera Queen of Peace will be breaking ground for the establishment of the first project of the Grassland Health Campus.  The state-of-the-art medical office building is slated to open in 2016.  A reception will follow the groundbreaking at the Highland Conference Center\, 2000 Highland Way\, Mitchell.
X-ALT-DESC;FMTTYPE=text/html:Avera Health and Avera Queen of Peace will be breaking ground for the establishment of the first project of the Grassland Health Campus.&nbsp\; The state-of-the-art medical office building is slated to open in 2016.&nbsp\; A reception will follow the groundbreaking at the Highland Conference Center\, 2000 Highland Way\, Mitchell.
LOCATION:Groundbreaking will be held on Cabela Drive\, West of Cabela's on Tuesday\, August 5th at 5pm. Reception to follow at the Highland Conference Center\, 2000 Highland Way\, Mitchell.
UID:e.1624.1189
SEQUENCE:3
DTSTAMP:20260421T132052Z
URL:https://business.mitchellchamber.com/events/details/avera-grassland-health-campus-groundbreaking-08-05-2014-1189
END:VEVENT

END:VCALENDAR
