BEGIN:VCALENDAR
VERSION:2.0
PRODID:-//ChamberMaster//Event Calendar 2.0//EN
METHOD:PUBLISH
X-PUBLISHED-TTL:P3D
REFRESH-INTERVAL:P3D
CALSCALE:GREGORIAN
BEGIN:VEVENT
DTSTART:20190126T230000Z
DTEND:20190127T000000Z
X-MICROSOFT-CDO-ALLDAYEVENT:FALSE
SUMMARY:Avera Employee Party
DESCRIPTION:http://cornpalace.com/calendar.aspx?EID=300
X-ALT-DESC;FMTTYPE=text/html: http://cornpalace.com/calendar.aspx?EID=300
LOCATION:The World's Only Corn Palace - 604 N Main St Mitchell SD 57301
UID:e.1624.22541
SEQUENCE:3
DTSTAMP:20260424T185425Z
URL:https://business.mitchellchamber.com/events/details/avera-employee-party-01-26-2019-22541
END:VEVENT

END:VCALENDAR
