BEGIN:VCALENDAR
VERSION:2.0
PRODID:-//ChamberMaster//Event Calendar 2.0//EN
METHOD:PUBLISH
X-PUBLISHED-TTL:P3D
REFRESH-INTERVAL:P3D
CALSCALE:GREGORIAN
BEGIN:VEVENT
DTSTART:20140422T220000Z
DTEND:20140422T223000Z
X-MICROSOFT-CDO-ALLDAYEVENT:FALSE
SUMMARY:Avera Brady Ribbon Cutting
DESCRIPTION:The Mitchell Chamber Ambassadors will hold a ribbon cutting for the Avera Brady "Vasek Can Do Villa" on Tuesday\, April 22nd at 5:00pm.
X-ALT-DESC;FMTTYPE=text/html:The Mitchell Chamber Ambassadors will hold a ribbon cutting for the Avera Brady &quot\;Vasek Can Do Villa&quot\; on Tuesday\, April 22nd at 5:00pm.&nbsp\;
LOCATION:
UID:e.1624.1126
SEQUENCE:3
DTSTAMP:20260421T201942Z
URL:https://business.mitchellchamber.com/events/details/avera-brady-ribbon-cutting-04-22-2014-1126
END:VEVENT

END:VCALENDAR
