BEGIN:VCALENDAR
VERSION:2.0
PRODID:-//ChamberMaster//Event Calendar 2.0//EN
METHOD:PUBLISH
X-PUBLISHED-TTL:P3D
REFRESH-INTERVAL:P3D
CALSCALE:GREGORIAN
BEGIN:VEVENT
DTSTART:20181225T010000Z
DTEND:20181225T020000Z
X-MICROSOFT-CDO-ALLDAYEVENT:FALSE
SUMMARY:Ascension Ev. Lutheran Church Christmas Eve Worship
DESCRIPTION:Join us on Christmas Eve to Let the Light of Christ the newborn King shine in your hearts this Christmas!
X-ALT-DESC;FMTTYPE=text/html:Join us on Christmas Eve to Let the Light of Christ the newborn King shine in your hearts this Christmas!
LOCATION:Ascension Ev. Lutheran Church 521 W. 23rd Ave Mitchell\, SD 57301
UID:e.1624.20901
SEQUENCE:3
DTSTAMP:20260424T203504Z
URL:https://business.mitchellchamber.com/events/details/ascension-ev-lutheran-church-christmas-eve-worship-20901
END:VEVENT

END:VCALENDAR
