BEGIN:VCALENDAR
VERSION:2.0
PRODID:-//ChamberMaster//Event Calendar 2.0//EN
METHOD:PUBLISH
X-PUBLISHED-TTL:P3D
REFRESH-INTERVAL:P3D
CALSCALE:GREGORIAN
BEGIN:VEVENT
DTSTART:20150724T230000Z
DTEND:20150725T010000Z
X-MICROSOFT-CDO-ALLDAYEVENT:FALSE
SUMMARY:Artist reception
DESCRIPTION:South Dakota Art Gallery is hosting a reception for artist\, Crystal Spencer. Crystal will share her journey of growth and healing through art and faith. Refreshments will be served and the artists's work will be for sale.
X-ALT-DESC;FMTTYPE=text/html:South Dakota Art Gallery is hosting a reception for artist\, Crystal Spencer. Crystal will share her journey of growth and healing through art and faith. Refreshments will be served and the artists&#39\;s work will be for sale.<br />\n&nbsp\;
LOCATION:200 North Main Street\, Mitchell\, SD 57301
UID:e.1624.1948
SEQUENCE:3
DTSTAMP:20260421T093300Z
URL:https://business.mitchellchamber.com/events/details/artist-reception-07-24-2015-1948
END:VEVENT

END:VCALENDAR
