BEGIN:VCALENDAR
VERSION:2.0
PRODID:-//ChamberMaster//Event Calendar 2.0//EN
METHOD:PUBLISH
X-PUBLISHED-TTL:P3D
REFRESH-INTERVAL:P3D
CALSCALE:GREGORIAN
BEGIN:VEVENT
DTSTART:20150717T230000Z
DTEND:20150718T010000Z
X-MICROSOFT-CDO-ALLDAYEVENT:FALSE
SUMMARY:Artist Reception
DESCRIPTION:An artists reception for Nicole Heitzman\, landscape and wildlife artist from Parkston\, will be held Friday the 17th\, from 6 to 8 p.m. at South Dakota Art Gallery. Heitzman's originals and prints will be available for purchase. Refreshments will be served.
X-ALT-DESC;FMTTYPE=text/html:An artists reception for Nicole Heitzman\, landscape and wildlife artist from Parkston\,&nbsp\;will be held Friday the 17th\, from 6 to 8 p.m.&nbsp\;at South Dakota Art&nbsp\;Gallery. Heitzman&#39\;s originals and prints will be available for purchase. Refreshments will be served.
LOCATION:200 North Main Street
UID:e.1624.1947
SEQUENCE:3
DTSTAMP:20260421T093311Z
URL:https://business.mitchellchamber.com/events/details/artist-reception-07-17-2015-1947
END:VEVENT

END:VCALENDAR
