BEGIN:VCALENDAR
VERSION:2.0
PRODID:-//ChamberMaster//Event Calendar 2.0//EN
METHOD:PUBLISH
X-PUBLISHED-TTL:P3D
REFRESH-INTERVAL:P3D
CALSCALE:GREGORIAN
BEGIN:VEVENT
DTSTART:20180216T001500Z
DTEND:20180216T010000Z
X-MICROSOFT-CDO-ALLDAYEVENT:FALSE
SUMMARY:Art Classes for Kids
DESCRIPTION:Dakota Wesleyan University education majors will host a two-day art class Feb. 8 and Feb. 15\, which focuses on the elements of art. The classes are separated into the following age groups: preschool\, kindergarten-first grade\, second-third grade\, and fourth-fifth grade. The classes are free but limited to 10 students per group. Registration is due by Feb. 5 and registration forms can be requested by emailing DWU adjunct instructor Lacey Musick at lamusick@dwu.edu.
X-ALT-DESC;FMTTYPE=text/html:<span style="font-family:times new roman\,serif"><span style="font-size:12.0pt">Dakota Wesleyan University education majors will host a two-day art class Feb. 8 and Feb. 15\, which focuses on the elements of art. The classes are separated into the following age groups: preschool\, kindergarten-first grade\, second-third grade\, and fourth-fifth grade. The classes are free but limited to 10 students per group. Registration is due by Feb. 5 and registration forms can be requested by emailing DWU adjunct instructor Lacey Musick at <a href="mailto:lamusick@dwu.edu">lamusick@dwu.edu</a>.</span></span>
LOCATION:Visual Arts Center located on campus on South Duff Street\, just east of the Dakota Discovery Museum
UID:e.1624.10539
SEQUENCE:3
DTSTAMP:20260425T190808Z
URL:https://business.mitchellchamber.com/events/details/art-classes-for-kids-02-15-2018-10539
END:VEVENT

END:VCALENDAR
