BEGIN:VCALENDAR
VERSION:2.0
PRODID:-//ChamberMaster//Event Calendar 2.0//EN
METHOD:PUBLISH
X-PUBLISHED-TTL:P3D
REFRESH-INTERVAL:P3D
CALSCALE:GREGORIAN
BEGIN:VEVENT
DTSTART:20220706T000000Z
DTEND:20220706T020000Z
X-MICROSOFT-CDO-ALLDAYEVENT:FALSE
SUMMARY:Archeology Updates with Dr. Hannus & Prof. Alan Outram
DESCRIPTION:Dr. Adien Hannus and Professor Alan Outram will be giving Archeology Updates on findings at the Prehistoric Indian Village and other areas at the Carnegie Resource Center beginning at 7:00 p.m.
X-ALT-DESC;FMTTYPE=text/html:Dr. Adien Hannus and Professor Alan Outram will be giving Archeology Updates on findings at the Prehistoric Indian Village and other areas at the Carnegie Resource Center beginning at 7:00 p.m.
LOCATION:119 West 3rd Avenue Mitchell\, SD
UID:e.1624.32657
SEQUENCE:3
DTSTAMP:20260421T221129Z
URL:https://business.mitchellchamber.com/events/details/archeology-updates-with-dr-hannus-prof-alan-outram-32657
END:VEVENT

END:VCALENDAR
