BEGIN:VCALENDAR
VERSION:2.0
PRODID:-//ChamberMaster//Event Calendar 2.0//EN
METHOD:PUBLISH
X-PUBLISHED-TTL:P3D
REFRESH-INTERVAL:P3D
CALSCALE:GREGORIAN
BEGIN:VEVENT
DTSTART:20140616T170000Z
DTEND:20140616T180000Z
X-MICROSOFT-CDO-ALLDAYEVENT:FALSE
SUMMARY:"Appy Hour" Roundtable Lunch
DESCRIPTION:Join The Network for "Appy Hour" on Monday\, June 16th at 12pm. We will be meeting in Blarney's meeting room to share the best apps out there - what works for you\, what you think is awesome\, what you think people shouldn't spend their money on! Bring your tablet or smartphone to try some out and let's get "Appy"!\n\n\n\nPlease email rebecca@mitchellchamber.com or call 996.5567 to reserve your spot.
X-ALT-DESC;FMTTYPE=text/html:<span itemprop="description"><span class="fsl">Join The Network for &quot\;Appy Hour&quot\; on Monday\, June 16th at 12pm. We will be meeting in Blarney&#39\;s meeting room to share the best apps out there - what works for you\, what you think is awesome\, what you think people shouldn&#39\;t spend their money on! Bring your tablet or smartphone to try some out and let&#39\;s get &quot\;Appy&quot\;!<br />\n<br />\n<span>Please email rebecca@mitchellchamber.co</span><wbr />m or call 996.5567 to reserve your spot.</span></span>
LOCATION:Blarney's meeting room\, 12pm
UID:e.1624.1175
SEQUENCE:3
DTSTAMP:20260421T170152Z
URL:https://business.mitchellchamber.com/events/details/appy-hour-roundtable-lunch-06-16-2014-1175
END:VEVENT

END:VCALENDAR
