BEGIN:VCALENDAR
VERSION:2.0
PRODID:-//ChamberMaster//Event Calendar 2.0//EN
METHOD:PUBLISH
X-PUBLISHED-TTL:P3D
REFRESH-INTERVAL:P3D
CALSCALE:GREGORIAN
BEGIN:VEVENT
DTSTART:20221029T213000Z
DTEND:20221030T000000Z
X-MICROSOFT-CDO-ALLDAYEVENT:FALSE
SUMMARY:Annual Spaghetti Supper at First Presbyterian Church`
DESCRIPTION:First Presbyterian Church Annual Spaghetti Supper on Saturday\, October 29 from 4:30 - 7:00 p.m.  The church is located at 500 East 5th Avenue in Mitchell.\n\n\n\nSpaghetti\, Garlic Bread Sticks and a Beverage
X-ALT-DESC;FMTTYPE=text/html:First Presbyterian Church Annual Spaghetti Supper on Saturday\, October 29 from 4:30 - 7:00 p.m.&nbsp\; The church is located at 500 East 5th Avenue in Mitchell.<br />\n<br />\nSpaghetti\, Garlic Bread Sticks and a Beverage
LOCATION:500 East 5th Avenue Mitchell\, SD 57301
UID:e.1624.32895
SEQUENCE:3
DTSTAMP:20260421T170647Z
URL:https://business.mitchellchamber.com/events/details/annual-spaghetti-supper-at-first-presbyterian-church-32895
END:VEVENT

END:VCALENDAR
