BEGIN:VCALENDAR
VERSION:2.0
PRODID:-//ChamberMaster//Event Calendar 2.0//EN
METHOD:PUBLISH
X-PUBLISHED-TTL:P3D
REFRESH-INTERVAL:P3D
CALSCALE:GREGORIAN
BEGIN:VEVENT
DTSTART:20220714T230000Z
DTEND:20220715T030000Z
X-MICROSOFT-CDO-ALLDAYEVENT:FALSE
SUMMARY:Angie Kriz & the Polkatoons
DESCRIPTION:Get your Polka Gear out of storage because Angie Kriz and the Polkatoons are going to be bringing non-stop dance tunes to Parkston. They will be very entertaining and will play MANY songs to dance to!\n\n\n\nDoug Bormann will be opening at 6:00pm
X-ALT-DESC;FMTTYPE=text/html:Get your Polka Gear out of storage because Angie Kriz and the Polkatoons are going to be bringing non-stop dance tunes to Parkston. They will be very entertaining and will play MANY songs to dance to!<br />\n<br />\nDoug Bormann will be opening at 6:00pm
LOCATION:East Park Amphitheater Parkston SD 57366
UID:e.1624.31811
SEQUENCE:3
DTSTAMP:20260421T221246Z
URL:https://business.mitchellchamber.com/events/details/angie-kriz-the-polkatoons-31811
END:VEVENT

END:VCALENDAR
