BEGIN:VCALENDAR
VERSION:2.0
PRODID:-//ChamberMaster//Event Calendar 2.0//EN
METHOD:PUBLISH
X-PUBLISHED-TTL:P3D
REFRESH-INTERVAL:P3D
CALSCALE:GREGORIAN
BEGIN:VEVENT
DTSTART:20240209T003000Z
DTEND:20240209T020000Z
X-MICROSOFT-CDO-ALLDAYEVENT:FALSE
SUMMARY:An Evening of Poetry with SD Poet Laureate Bruce Roseland
DESCRIPTION:SD Poet Laureate Bruce Roseland\, Marcella Remund\, and Barbara Duffy join us for an evening of poetry. This event is part of the South Dakota Poets on the Road Reading Series\, an event series by the South Dakota Poetry Society.
X-ALT-DESC;FMTTYPE=text/html:<div>SD Poet Laureate Bruce Roseland\, Marcella Remund\, and Barbara Duffy join us for an evening of poetry. This event is part of the South Dakota Poets on the Road Reading Series\, an event series by the South Dakota Poetry Society.</div>\n
LOCATION:Mitchel Public Library 221 N. Duff St. Mitchell\, SD 57301
UID:e.1624.35869
SEQUENCE:3
DTSTAMP:20260420T161335Z
URL:https://business.mitchellchamber.com/events/details/an-evening-of-poetry-with-sd-poet-laureate-bruce-roseland-35869
END:VEVENT

END:VCALENDAR
