BEGIN:VCALENDAR
VERSION:2.0
PRODID:-//ChamberMaster//Event Calendar 2.0//EN
METHOD:PUBLISH
X-PUBLISHED-TTL:P3D
REFRESH-INTERVAL:P3D
CALSCALE:GREGORIAN
BEGIN:VEVENT
DTSTART:20140722T150000Z
DTEND:20140722T153000Z
X-MICROSOFT-CDO-ALLDAYEVENT:FALSE
SUMMARY:Ambassador Visit - Trail King
DESCRIPTION:Congratulate Trail King Industries on 40 years in business!  We will be celebrating with an Ambassador Visit on Tuesday\, July 22nd at 10am.  Meet us at the West Plant on Ohlman Road to join!
X-ALT-DESC;FMTTYPE=text/html:Congratulate Trail King Industries on 40 years in business!&nbsp\; We will be celebrating with an Ambassador Visit on Tuesday\, July 22nd at 10am.&nbsp\; Meet us at the West Plant on Ohlman Road to join!
LOCATION:Trail King West Plant - Ohlman Road
UID:e.1624.1185
SEQUENCE:3
DTSTAMP:20260421T151438Z
URL:https://business.mitchellchamber.com/events/details/ambassador-visit-trail-king-07-22-2014-1185
END:VEVENT

END:VCALENDAR
