BEGIN:VCALENDAR
VERSION:2.0
PRODID:-//ChamberMaster//Event Calendar 2.0//EN
METHOD:PUBLISH
X-PUBLISHED-TTL:P3D
REFRESH-INTERVAL:P3D
CALSCALE:GREGORIAN
BEGIN:VEVENT
DTSTART:20140410T210000Z
DTEND:20140410T230000Z
X-MICROSOFT-CDO-ALLDAYEVENT:FALSE
SUMMARY:Ambassador Visit - Cabela's
DESCRIPTION:The Ambassadors will be visiting the new General Manager at Cabela's and present him with a welcome certificate.  Following the presentation\, there will be snacks in the Cabela's new boat show room.
X-ALT-DESC;FMTTYPE=text/html:The Ambassadors will be visiting the new General Manager at Cabela&#39\;s and present him with a welcome certificate.&nbsp\; Following the presentation\, there will be snacks in the Cabela&#39\;s new boat show room.
LOCATION:Cabela's\, 601 Cabela Dr.\, Mitchell
UID:e.1624.1119
SEQUENCE:3
DTSTAMP:20260421T201916Z
URL:https://business.mitchellchamber.com/events/details/ambassador-visit-cabela-s-04-10-2014-1119
END:VEVENT

END:VCALENDAR
