BEGIN:VCALENDAR
VERSION:2.0
PRODID:-//ChamberMaster//Event Calendar 2.0//EN
METHOD:PUBLISH
X-PUBLISHED-TTL:P3D
REFRESH-INTERVAL:P3D
CALSCALE:GREGORIAN
BEGIN:VEVENT
DTSTART:20140729T170000Z
DTEND:20140729T180000Z
X-MICROSOFT-CDO-ALLDAYEVENT:FALSE
SUMMARY:Ambassador Visit - Area Community Theatre
DESCRIPTION:Join us in welcoming Megan Reimnitz as the new Managing Director of the Mitchell Area Community Theatre!  We will be having an Ambassador visit on Tuesday\, July 29th at 12pm.
X-ALT-DESC;FMTTYPE=text/html:Join us in welcoming Megan Reimnitz as the new Managing Director of the Mitchell Area Community Theatre!&nbsp\; We will be having an Ambassador visit on Tuesday\, July 29th at 12pm.
LOCATION:Mitchell Area Community Theatre\, 700 N. Main St.\, Mitchell.
UID:e.1624.1186
SEQUENCE:3
DTSTAMP:20260421T190620Z
URL:https://business.mitchellchamber.com/events/details/ambassador-visit-area-community-theatre-07-29-2014-1186
END:VEVENT

END:VCALENDAR
