BEGIN:VCALENDAR
VERSION:2.0
PRODID:-//ChamberMaster//Event Calendar 2.0//EN
METHOD:PUBLISH
X-PUBLISHED-TTL:P3D
REFRESH-INTERVAL:P3D
CALSCALE:GREGORIAN
BEGIN:VEVENT
DTSTART:20190319T223000Z
DTEND:20190319T233000Z
X-MICROSOFT-CDO-ALLDAYEVENT:FALSE
SUMMARY:Alzheimer's Association Support Group
DESCRIPTION:Caregiver Connection   Alzheimer's Association Dementia Caregivers Support Group   Open to the Public\n\n"Let's Laugh" Comedy - We will open up with a little humor and then we will have conversation\, snacks and drinks.  This is a safe\, confidential support group and anyone is welcome!
X-ALT-DESC;FMTTYPE=text/html:<span style="font-family:calibri\,sans-serif\; font-size:11pt">Caregiver Connection &ndash\; Alzheimer&rsquo\;s Association Dementia Caregivers Support Group &ndash\; Open to the Public<br />\n&quot\;Let&#39\;s Laugh&quot\; Comedy - We will open up with a little humor and then we will have conversation\, snacks and drinks.&nbsp\; This is a safe\, confidential support group and anyone is welcome!</span><br />\n&nbsp\;
LOCATION:Edgewood Memory Care North House 2201 N. Wisconsin Mitchell\, SD 57301
UID:e.1624.23755
SEQUENCE:3
DTSTAMP:20260424T155153Z
URL:https://business.mitchellchamber.com/events/details/alzheimer-s-association-support-group-23755
END:VEVENT

END:VCALENDAR
