BEGIN:VCALENDAR
VERSION:2.0
PRODID:-//ChamberMaster//Event Calendar 2.0//EN
METHOD:PUBLISH
X-PUBLISHED-TTL:P3D
REFRESH-INTERVAL:P3D
CALSCALE:GREGORIAN
BEGIN:VEVENT
DTSTART:20191103T150000Z
DTEND:20191103T180000Z
X-MICROSOFT-CDO-ALLDAYEVENT:FALSE
SUMMARY:Alternative Gifts Fair
DESCRIPTION:More than fifteen non profit organizations will be represented for your support. Instead of purchasing Christmas gifts for your friends and family at the store\, give items that benefit local non profits and the community!\n\n\n\nThe United Methodist Men are serving coffee and rolls in the dining hall. United Methodist Youth are serving a luncheon after the event in the dining hall.
X-ALT-DESC;FMTTYPE=text/html:More than fifteen non profit organizations will be represented for your support. Instead of purchasing Christmas gifts for your friends and family at the store\, give items that benefit local non profits and the community!<br />\n<br />\nThe United Methodist Men are serving coffee and rolls in the dining hall. United Methodist Youth are serving a luncheon after the event in the dining hall.
LOCATION:First United Methodist Church 310 N Rowley Street\, Mitchell
UID:e.1624.26363
SEQUENCE:3
DTSTAMP:20260424T090052Z
URL:https://business.mitchellchamber.com/events/details/alternative-gifts-fair-26363
END:VEVENT

END:VCALENDAR
