BEGIN:VCALENDAR
VERSION:2.0
PRODID:-//ChamberMaster//Event Calendar 2.0//EN
METHOD:PUBLISH
X-PUBLISHED-TTL:P3D
REFRESH-INTERVAL:P3D
CALSCALE:GREGORIAN
BEGIN:VEVENT
DTSTART:20180214T003000Z
DTEND:20180214T030000Z
X-MICROSOFT-CDO-ALLDAYEVENT:FALSE
SUMMARY:AgriVisions 2018 hosted by First Dakota National Bank
DESCRIPTION:First Dakota National Bank will host AgriVisions 2018 featuring Kevin Van Trump on Tuesday\, February 13\, at the Mitchell Technical Institute Technology Center.  Registration begins at 6:30 pm and Mr. Van Trump presenting at 7:00 pm. Farmers\, Agri-Business professionals and business owners are invited to attend. \n\nNate Franzen\, President of First Dakota's Agri-Business Division\, states\, "Mark Tuesday\, February 13\, on your calendar and plan to attend AgriVisions 2018. Kevin Van Trump is a leading expert in Agricultural marketing and analysis. Plan to join us at AgriVisions 2018."\n\n \n\nVan Trump is a leading expert in Agricultural marketing and analysis\, he also produces an award-winning and world-recognized daily industry Ag wire called "The Van Trump Report." With over 20 years of experience trading professionally at the CME\, CBOT and KCBOT\, Kevin is able to 'connect-the-dots' and simplify the complex moving parts associated with today's markets in a thought provoking yet easy to read format. With thousands of daily readers in over 40 countries\, Kevin has become a sought after source for market direction\, timing and macro views associated with the agricultural world. Kevin is a top featured guest on many farm radio programs and business news channels here in the United States. Kevin is currently the acting Chairman of Farm Direction\, an international organization assembled to bring the finest and most current agricultural thoughts and strategies directly to the world's top producers. The markets have dramatically changed and Kevin is trying to redefine how those in the agricultural world can better manage their risk and better understand the adversity that lies ahead.
X-ALT-DESC;FMTTYPE=text/html:<span style="font-family:arial\,sans-serif\;"><span style="font-size:11.0pt\;">First Dakota National Bank will host AgriVisions 2018 featuring Kevin Van Trump on Tuesday\, February 13\, at the Mitchell Technical Institute Technology Center.&nbsp\; Registration begins at 6:30 pm and Mr. Van Trump presenting at 7:00 pm. Farmers\, Agri-Business professionals and business owners are invited to attend.</span></span>&nbsp\;<br />\n<span style="color:black\;"><span style="font-family:arial\,sans-serif\;"><span style="font-size:11.0pt\;">Nate Franzen\, President of First Dakota&rsquo\;s Agri-Business Division\, states\, &ldquo\;Mark Tuesday\, February 13\, on your calendar and plan to attend AgriVisions 2018. Kevin Van Trump is a leading expert in Agricultural marketing and analysis. Plan to join us at AgriVisions 2018.&rdquo\;</span></span></span><br />\n&nbsp\;<br />\n<span style="font-family:arial\,sans-serif\;"><span style="font-size:11.0pt\;">Van Trump is a leading expert in Agricultural marketing and analysis\, he also produces an award-winning and world-recognized daily industry Ag wire called &quot\;The Van Trump Report.&quot\; With over 20 years of experience trading professionally at the CME\, CBOT and KCBOT\, Kevin is able to &#39\;connect-the-dots&#39\; and simplify the complex moving parts associated with today&#39\;s markets in a thought provoking yet easy to read format. With thousands of daily readers in over 40 countries\, Kevin has become a sought after source for market direction\, timing and macro views associated with the agricultural world. Kevin is a top featured guest on many farm radio programs and business news channels here in the United States. Kevin is currently the acting Chairman of Farm Direction\, an international organization assembled to bring the finest and most current agricultural thoughts and strategies directly to the world&#39\;s top producers. The markets have dramatically changed and Kevin is trying to redefine how those in the agricultural world can better manage their risk and better understand the adversity that lies ahead.&nbsp\;</span></span><br />\n&nbsp\;
LOCATION:Mitchell Technical Institute Technology Center 1800 East Spruce Mitchell\, SD
UID:e.1624.11883
SEQUENCE:3
DTSTAMP:20260425T190651Z
URL:https://business.mitchellchamber.com/events/details/agrivisions-2018-hosted-by-first-dakota-national-bank-11883
END:VEVENT

END:VCALENDAR
